BEGIN:VCALENDAR
VERSION:2.0
CALSCALE:GREGORIAN
PRODID:-//MyApp//Calendar 1.0//EN
BEGIN:VEVENT
METHOD:PUBLISH
UID:54595@regionalniportaly.cz
DTSTAMP:20260423T233106Z
DTSTART;VALUE=DATE:20250614
DTEND;VALUE=DATE:20250615
SUMMARY:Kopidlenské slavnosti 2025
DESCRIPTION:Čekají vás koncerty Tradiční cimbálovky Znojmo\, Fandy a jeho bandy\, Harlej Revival i Skupiny&nbsp\;HODINY.Nebude chybět&nbsp\;tvořivý a dětský koutek\, Dom's bar\, vinný stánek\, ohnivá show\, fotokoutek\, bohaté občerstvení.Přijďte si užít skvělou zábavu a atmosféru!
LOCATION:Kopidlno
END:VEVENT
END:VCALENDAR