BEGIN:VCALENDAR
VERSION:2.0
CALSCALE:GREGORIAN
PRODID:-//MyApp//Calendar 1.0//EN
BEGIN:VEVENT
METHOD:PUBLISH
UID:45498@regionalniportaly.cz
DTSTAMP:20260422T064503Z
DTSTART;VALUE=DATE:20241109
DTEND;VALUE=DATE:20241110
SUMMARY:Celý den s : Ada Inneman
DESCRIPTION:Centrum JEDNA NOTA&nbsp\; na zámečku v&nbsp\;Přistoupimi9.11. 2024Vás srdečně zve na celodenní akci&nbsp\;v romantické barokní usedlosti\, na zámečku v Přistoupimi 1u Českého Brodu:&nbsp\;CD s BytostíanebCelý Den s ÁDOU INNEMANEM&nbsp\;9.11.&nbsp\;2024&nbsp\; &nbsp\; &nbsp\; &nbsp\; &nbsp\;11.00 - 21.00 Motto 1:"Z povrchu věcí do hlouby srdce"&nbsp\;cena je včetně oběda s nápojem zdarma&nbsp\;možnost dalšího občerstvení až do večera&nbsp\;Kde:zámeček v Přistoupimi čp.1 u Českého Broducca 35 min z Prahy autem i vlakem&nbsp\;Program - 4x beseda- 3 x beseda&nbsp\;s Ádou InnemanemTémata:SVĚTOVÁ PREMIÉRA - FRAKTÁLNÍ HISTORIEa dále Proměna lidstva\, Genius českého živlu\, Zrcadlo vztahů&nbsp\;- 1x&nbsp\; beseda Dominiky Shiry&nbsp\;- s autorkou knihy a karet Mandalový tarot&nbsp\;&nbsp\;Motto 2:Synergie tří:Jedinečná Bytost Ády Innemana + čas celého dne + magické místo = synergie\, která Vás přivede do hlubokého prožitku a pochopení i transformace...&nbsp\;Bonusy ke vstupence:1. oběd s nealko nápojem zdarma2. vouger - sleva na 600\,- Kč na sezení\, koučink či&nbsp\;výklad karet u Dominiky Shiry3. vouger - sleva&nbsp\;10 % na další celodenní akci&nbsp\;"CD s Bytostí"\, dle vlastního výběru - info na domi.nika9@seznam.cz&nbsp\;&nbsp\;
LOCATION:Přistoupim
END:VEVENT
END:VCALENDAR