BEGIN:VCALENDAR
VERSION:2.0
CALSCALE:GREGORIAN
PRODID:-//MyApp//Calendar 1.0//EN
BEGIN:VEVENT
METHOD:PUBLISH
UID:42866@regionalniportaly.cz
DTSTAMP:20260423T233509Z
DTSTART;VALUE=DATE:20250607
DTEND;VALUE=DATE:20250608
SUMMARY:Koncert Zaprešić Boys
DESCRIPTION:Přijďte si užít skvělé odpoledne&nbsp\;s chorvatskou kapelou Zaprešić Boys!Jejich písně zná každý Chorvat. Skupina Zaprešić Boys se specializuje na fotbalové hymny a její písně provází každou účast chorvatského národního týmu na mistrovstvích. Texty skladeb silně brnkají na národní hrdost a Zaprešić Boys se díky tomu stali chorvatským fenoménem.16:00 Otevíráme Naše brány&nbsp\;17:00 kapela Jefferson&nbsp\;18:15 kapela Jenakaši&nbsp\;19:00 koncert ZAPREŠIĆ BOYS22:00 afterparty v místě konání koncertu a s DJ radost až do rána..&nbsp\;V areálu se můžete těšit na dobré pití\, jídlo\, beer pong a plno zábavy\, hudby a tance... pro naše nejmensí\, bude k dispozici skákací hrad...Pokud máte zájem o stanování v místě konání koncertu\, kontaktujte nás na kosatka7@icloud.com \, koupě stanování - u pokladny u vchodu na koncert - 150 KČNa čepu bude Pilsner Urquell&nbsp\;Po dlouhé době míříme zpět do České republiky a to do Středních Čech\, 40&nbsp\;min od centra Prahy.&nbsp\;Věříme\, že nás čeká krásné odpoledne...Těšíme se na Vás a pojďme si to pořádně užít....... AJDE a VIDIMO SE !!!!&nbsp\;Lístky zakoupené na 14.9.2024 platí na 7.6.2025 \, děkujeme za Vaši přízeň...
LOCATION:Český Brod
END:VEVENT
END:VCALENDAR