BEGIN:VCALENDAR
VERSION:2.0
CALSCALE:GREGORIAN
PRODID:-//MyApp//Calendar 1.0//EN
BEGIN:VEVENT
METHOD:PUBLISH
UID:37580@regionalniportaly.cz
DTSTAMP:20260421T151546Z
DTSTART;VALUE=DATE:20240615
DTEND;VALUE=DATE:20240616
SUMMARY:Tesaque Antabus minifest
DESCRIPTION:TESAQUE ANTABUS MINIFEST vznikl\, protože v okolí&nbsp\;zkrátka takový fesťáček nebyl. Tady uslyšíte jenom metalové kapely. A to jak ty známější\, tak ty teprve na výsluní vycházející. Tím\, že na festival dorazíte\, podpoříte hudebníky z celé republiky a taky částečně nevidomého Olivera a jeho sportovní aktivity! Fesťák nabídne i něco navíc\, a to vystoupení mladých nadějných bubeníků\, kteří si zahrají na stejném pódiu jako profesionální kapely.&nbsp\;A JAKÉ LETOS USLYŠÍTE KAPELY?Samé metalové poklady....MALIGNANT TUMOUR\, SHAARK\, NAHUM\, STEELFAITH\, CRUEL BARBARIAN\, TORRAX\, VANAHEIM\, KREVEL\, ARVA
LOCATION:Chrášťany
END:VEVENT
END:VCALENDAR